BEGIN:VCALENDAR
VERSION:2.0
PRODID:-//ChamberMaster//Event Calendar 2.0//EN
METHOD:PUBLISH
X-PUBLISHED-TTL:P3D
REFRESH-INTERVAL:P3D
CALSCALE:GREGORIAN
BEGIN:VEVENT
DTSTART:20190826T180000Z
DTEND:20190826T210000Z
X-MICROSOFT-CDO-ALLDAYEVENT:FALSE
SUMMARY:Dance Workshop\, Embodied Environments
DESCRIPTION:With ANP Artist in Residence Candice Salyers. Through a combination of contemplative movement\, improvisational dance\, and observation exercises\, we will discover ways in which the connections between our bodies and landscapes help us to know ourselves\, each other\, and the environments we inhabit together. \n\n\n\nIn addition\, Candice will share photographs and films from her residency in Acadia National Park in which she was exploring these themes in conjunction with the writing on John Muir in the specific landscape of Acadia.
X-ALT-DESC;FMTTYPE=text/html:With ANP Artist in Residence Candice Salyers. Through a combination of contemplative movement\, improvisational dance\, and observation exercises\, we will discover ways in which the connections between our bodies and landscapes&nbsp\;help us to know ourselves\, each other\, and the environments we inhabit together.&nbsp\;<br />\n<br />\nIn addition\, Candice will share photographs and films from her residency in Acadia National Park in which she was exploring these themes in conjunction with the writing on John Muir in the specific landscape of Acadia.&nbsp\;
LOCATION:ArtWaves\, 1345-A State Highway 102\, Bar Harbor.
UID:e.3061.14496
SEQUENCE:3
DTSTAMP:20260419T191922Z
URL:https://www.visitbarharbor.com/events/details/dance-workshop-embodied-environments-14496
END:VEVENT

END:VCALENDAR
