BEGIN:VCALENDAR
VERSION:2.0
PRODID:-//ChamberMaster//Event Calendar 2.0//EN
METHOD:PUBLISH
X-PUBLISHED-TTL:P3D
REFRESH-INTERVAL:P3D
CALSCALE:GREGORIAN
BEGIN:VEVENT
DTSTART:20180806T210000Z
DTEND:20180806T233000Z
X-MICROSOFT-CDO-ALLDAYEVENT:FALSE
SUMMARY:Dana-Farber President and CEO Emeritus Dr. Ed Benz to Keynote MDI Hospital’s Annual Meeting
DESCRIPTION:Dana-Farber President and CEO Emeritus Dr. Edward J. Benz\, Jr. will be the keynote speaker at Mount Desert Island Hospital's Annual Meeting on Monday\, August 6 at 5 p.m. at the Bar Harbor Club on 11 West Street in Bar Harbor. His keynote\, "Cancer Research and Care in the 21st Century: Progress\, Promise and Perils" will highlight current trends in cancer care and draw from his extensive background in medical oncology. Dr. Benz graduated from Harvard Medical School in 1973 and received his training at Brigham and Women's Hospital and the National Institutes of Health. In addition to serving as president and CEO emeritus of Dana-Farber Cancer Institute\, Dr. Benz is also director emeritus and principal investigator of Dana-Farber/Harvard Cancer Center\, a member of the Governing Board of Dana-Farber/Children's Cancer Center\, a Richard and Susan Smith distinguished professor of medicine at Harvard Medical School\, a clinical hematologist and an active NIH-funded investigator. MDI Hospital's 2018 Annual Meeting will also feature a summary of the past year's accomplishments and financial performance. The organization's new Palliative Care Program and its partnership with the Downeast Substance Treatment Network will be among the topics to be presented. The public is welcome and encouraged to attend MDI Hospital's Annual Meeting. Social hour with\, hors d'oeuvres\, cash bar and live jazz begins at 5 p.m. The annual meeting program\, keynote and presentations begin at 6 p.m. Complimentary parking is available in the gated lot between the Bar Harbor Club and the Harborside Hotel on West Street.
X-ALT-DESC;FMTTYPE=text/html:Dana-Farber President and CEO Emeritus Dr. Edward J. Benz\, Jr. will be the keynote speaker at Mount Desert Island Hospital&rsquo\;s Annual Meeting on Monday\, August 6 at 5 p.m. at the Bar Harbor Club on 11 West Street in Bar Harbor. His keynote\, &quot\;Cancer Research and Care in the 21st Century: Progress\, Promise and Perils&quot\; will highlight current trends in cancer care and draw from his extensive background in medical oncology. Dr. Benz graduated from Harvard Medical School in 1973 and received his training at Brigham and Women&#39\;s Hospital and the National Institutes of Health. In addition to serving as president and CEO emeritus of Dana-Farber Cancer Institute\, Dr. Benz is also director emeritus and principal investigator of Dana-Farber/Harvard Cancer Center\, a member of the Governing Board of Dana-Farber/Children&#39\;s Cancer Center\, a Richard and Susan Smith distinguished professor of medicine at Harvard Medical School\, a clinical hematologist and an active NIH-funded investigator. MDI Hospital&rsquo\;s 2018 Annual Meeting will also feature a summary of the past year&rsquo\;s accomplishments and financial performance. The organization&rsquo\;s new Palliative Care Program and its partnership with the Downeast Substance Treatment Network will be among the topics to be presented. The public is welcome and encouraged to attend MDI Hospital&rsquo\;s Annual Meeting. Social hour with\, hors d&rsquo\;oeuvres\, cash bar and live jazz begins at 5 p.m. The annual meeting program\, keynote and presentations begin at 6 p.m. Complimentary parking is available in the gated lot between the Bar Harbor Club and the Harborside Hotel on West Street.
LOCATION:Bar Harbor Club: 11 West Street\, Bar Harbor
UID:e.3061.3398
SEQUENCE:3
DTSTAMP:20260420T170936Z
URL:https://www.visitbarharbor.com/events/details/dana-farber-president-and-ceo-emeritus-dr-ed-benz-to-keynote-mdi-hospital-s-annual-meeting-3398
END:VEVENT

END:VCALENDAR
