BEGIN:VCALENDAR
VERSION:2.0
PRODID:-//ChamberMaster//Event Calendar 2.0//EN
METHOD:PUBLISH
X-PUBLISHED-TTL:P3D
REFRESH-INTERVAL:P3D
CALSCALE:GREGORIAN
BEGIN:VEVENT
DTSTART:20181108T133000Z
DTEND:20181108T163000Z
X-MICROSOFT-CDO-ALLDAYEVENT:FALSE
SUMMARY:Crowdfunding: Another Way To Finance Your Business
DESCRIPTION:When traditional sources of loans seem unlikely to provide the funds your business needs\, owners are increasingly turning to crowd funding sites online. More choices are appearing frequently\, some targeted to specific fields.\n\n	What are the most popular sites?\n	How the sites differ\; which may be best for your business\n	What are the steps to apply for funding\n	What are the risks and pitfalls you should watch for\n\nWe'll leave lots of time for your questions\, too\, so bring your specific interests and concerns.\n\n\n\nPresenters: Lucas McNelly\, nationally known expert on crowdfunding Discussion panel: Karen Roper\, Acadia Yurts\, Seal Cove Dan Tutor\, Moonbeam Hammocks\, Islesboro
X-ALT-DESC;FMTTYPE=text/html:When traditional sources of loans seem unlikely to provide the funds your business needs\, owners are increasingly turning to crowd funding sites online. More choices are appearing frequently\, some targeted to specific fields.\n<ul>\n	<li>What are the most popular sites?</li>\n	<li>How the sites differ\; which may be best for your business</li>\n	<li>What are the steps to apply for funding</li>\n	<li>What are the risks and pitfalls you should watch for</li>\n</ul>\nWe&#39\;ll leave lots of time for your questions\, too\, so bring your specific interests and concerns.<br />\n<br />\nPresenters: Lucas McNelly\, nationally known expert on crowdfunding Discussion panel: Karen Roper\, Acadia Yurts\, Seal Cove Dan Tutor\, Moonbeam Hammocks\, Islesboro
LOCATION:SCORE office behind the Mill Mall in Ellsworth on Rt. 1A
UID:e.3061.4276
SEQUENCE:3
DTSTAMP:20260420T114540Z
URL:https://www.visitbarharbor.com/events/details/crowdfunding-another-way-to-finance-your-business-4276
END:VEVENT

END:VCALENDAR
