BEGIN:VCALENDAR
VERSION:2.0
PRODID:-//ChamberMaster//Event Calendar 2.0//EN
METHOD:PUBLISH
X-PUBLISHED-TTL:P3D
REFRESH-INTERVAL:P3D
CALSCALE:GREGORIAN
BEGIN:VEVENT
DTSTART:20180522T213000Z
DTEND:20180522T230000Z
X-MICROSOFT-CDO-ALLDAYEVENT:FALSE
SUMMARY:Criterion Theatre Community Forum
DESCRIPTION:Growing Our Historic Theatre\, Building a Creative Economy Join The Criterion Theatre management team to learn about upcoming goals for the historic theatre and to share your perspective and feedback on how the theatre can better serve the community. Whether you are a local performing artist\, a business owner\, film/arts lover\, a longtime Criterion supporter\, or you just want to learn more\, join us for this informal discussion.
X-ALT-DESC;FMTTYPE=text/html:Growing Our Historic Theatre\, Building a Creative Economy Join The Criterion Theatre management team to learn about upcoming goals for the historic theatre and to share your perspective and feedback on how the theatre can better serve the community. Whether you are a local performing artist\, a business owner\, film/arts lover\, a longtime Criterion supporter\, or you just want to learn more\, join us for this informal discussion.
LOCATION:Southwest Harbor Public Library
UID:e.3061.2156
SEQUENCE:3
DTSTAMP:20260420T232634Z
URL:https://www.visitbarharbor.com/events/details/criterion-theatre-community-forum-2156
END:VEVENT

END:VCALENDAR
