BEGIN:VCALENDAR
VERSION:2.0
PRODID:-//ChamberMaster//Event Calendar 2.0//EN
METHOD:PUBLISH
X-PUBLISHED-TTL:P3D
REFRESH-INTERVAL:P3D
CALSCALE:GREGORIAN
BEGIN:VEVENT
DTSTART:20190107T143000Z
DTEND:20190107T163000Z
X-MICROSOFT-CDO-ALLDAYEVENT:FALSE
SUMMARY:Creating Vessels
DESCRIPTION:Here's the time to learn to be an artisan in this ArtWaves workshop for beginners and artists alike. Enjoy creating vessels by felting fleece\, patting plaster\, and collaging in this fun introductory 4 week class. We have an array of colorful or neutral finishing touches for you to experiment with. Step by step instructions makes this easy\, enjoyable\, and gives endless possibilities\, plus you get to take your creations home. All materials supplied.
X-ALT-DESC;FMTTYPE=text/html:<span style="background-color:rgb(254\, 253\, 253)\; color:rgb(46\, 46\, 46)\; font-family:open sans\; font-size:15.4px">Here&#39\;s the time to learn to be an artisan in this ArtWaves workshop for beginners and artists alike. Enjoy creating vessels by felting fleece\, patting plaster\, and collaging in this fun introductory 4 week class. We have an array of colorful or neutral finishing touches for you to experiment with. Step by step instructions makes this easy\, enjoyable\, and gives endless possibilities\, plus you get to take your creations home. All materials supplied.</span>
LOCATION:ArtWaves\, 1345-A ME-102\, Bar Harbor\, ME 04609\, USA Instructor: Liz Cutler
UID:e.3061.4732
SEQUENCE:3
DTSTAMP:20260420T081228Z
URL:https://www.visitbarharbor.com/events/details/creating-vessels-4732
END:VEVENT

END:VCALENDAR
