BEGIN:VCALENDAR
VERSION:2.0
PRODID:-//ChamberMaster//Event Calendar 2.0//EN
METHOD:PUBLISH
X-PUBLISHED-TTL:P3D
REFRESH-INTERVAL:P3D
CALSCALE:GREGORIAN
BEGIN:VEVENT
DTSTART:20180710T213000Z
DTEND:20180710T230000Z
X-MICROSOFT-CDO-ALLDAYEVENT:FALSE
SUMMARY:Creating the Maine Sculpture Trail
DESCRIPTION:Local sculptor and founder of the Schoodic International Sculpture Symposium\, Jesse Salisbury\, will speak about "Creating the Maine Sculpture Trail" at the Southwest Harbor Public Library on Tuesday\, July 10\, 5:30-7 p.m. Free and open to all. For more information\, contact the Library: 244-7065.
X-ALT-DESC;FMTTYPE=text/html:Local sculptor and founder of the Schoodic International Sculpture Symposium\, Jesse Salisbury\, will speak about &ldquo\;Creating the Maine Sculpture Trail&rdquo\; at the Southwest Harbor Public Library on Tuesday\, July 10\, 5:30-7 p.m. Free and open to all. For more information\, contact the Library: 244-7065.
LOCATION:Southwest Harbor Public Library
UID:e.3061.3068
SEQUENCE:3
DTSTAMP:20260420T182524Z
URL:https://www.visitbarharbor.com/events/details/creating-the-maine-sculpture-trail-3068
END:VEVENT

END:VCALENDAR
