BEGIN:VCALENDAR
VERSION:2.0
PRODID:-//ChamberMaster//Event Calendar 2.0//EN
METHOD:PUBLISH
X-PUBLISHED-TTL:P3D
REFRESH-INTERVAL:P3D
CALSCALE:GREGORIAN
BEGIN:VEVENT
DTSTART:20181030T201000Z
DTEND:20181030T213000Z
X-MICROSOFT-CDO-ALLDAYEVENT:FALSE
SUMMARY:Creating Sustainable Livelihoods in India
DESCRIPTION:Rama Subramanian\, the director of Samanvaya Social Ventures and the Sustainable Livelihood Institute\, speaks at College of the Atlantic's Human Ecology Forum about his 20 years of social justice work.
X-ALT-DESC;FMTTYPE=text/html:Rama Subramanian\, the director of Samanvaya Social Ventures and the Sustainable Livelihood Institute\, speaks at College of the Atlantic&rsquo\;s Human Ecology Forum about his 20 years of social justice work.
LOCATION:College of the Atlantic McCormick Lecture Hall
UID:e.3061.3963
SEQUENCE:3
DTSTAMP:20260420T131956Z
URL:https://www.visitbarharbor.com/events/details/creating-sustainable-livelihoods-in-india-3963
END:VEVENT

END:VCALENDAR
