BEGIN:VCALENDAR
VERSION:2.0
PRODID:-//ChamberMaster//Event Calendar 2.0//EN
METHOD:PUBLISH
X-PUBLISHED-TTL:P3D
REFRESH-INTERVAL:P3D
CALSCALE:GREGORIAN
BEGIN:VEVENT
DTSTART:20181012T220000Z
DTEND:20181013T003000Z
X-MICROSOFT-CDO-ALLDAYEVENT:FALSE
SUMMARY:Create & Sip: Printmaking Skulls in Nature
DESCRIPTION:Create & Sip - Printmaking\; Skulls in Nature\n\n\n\nFriday\, October 12\, 2018\n\n\n\n6:00pm-8:30pm\n\n\n\nArtWaves\, 1345-A ME-102\, Bar Harbor\, ME 04609\, USA\n\n\n\nInstructor: Jessica Harris\n\n\n\nHalloween is just around the corner\, so to commemorate students will have the opportunity to draw inspiration from animal books and skulls from Jessica's personal bone collection! Students will design drawings to apply to linoleum plates for carving a linocut print. Designs may be used to make a series of cards and prints to mat and frame. Students may choose to make their designs as simple or elaborate as they feel comfortable in doing. Tool usage\, instructions\, demonstrations\, samples\, materials are all supplied. This is going to be a great workshop with a little bit of an anatomy lesson involved! Come experiment with different gauges for carving\, peruse inspiring books and examine up close and personal a collection of found skulls from birds\, mice\, fox\, goat and deer.\n\n\n\n*Students may choose to carve any design if preferred. There will be plenty of animal reference books to inspire\, or create your own Halloween design!\n\n$40.\n\n*Wine\, tea and a snack are included. Feel free to bring your own snacks if preferred
X-ALT-DESC;FMTTYPE=text/html:<span style="color:rgb(29\, 33\, 41)\; font-family:helvetica neue\,helvetica\,arial\,sans-serif\; font-size:14px">Create &amp\; Sip - Printmaking\; Skulls in Nature</span><br />\n<br />\n<span style="color:rgb(29\, 33\, 41)\; font-family:helvetica neue\,helvetica\,arial\,sans-serif\; font-size:14px">Friday\, October 12\, 2018</span><br />\n<br />\n<span style="color:rgb(29\, 33\, 41)\; font-family:helvetica neue\,helvetica\,arial\,sans-serif\; font-size:14px">6:00pm-8:30pm</span><br />\n<br />\n<span style="color:rgb(29\, 33\, 41)\; font-family:helvetica neue\,helvetica\,arial\,sans-serif\; font-size:14px">ArtWaves\, 1345-A ME-102\, Bar Harbor\, ME 04609\, USA</span><br />\n<br />\n<span style="color:rgb(29\, 33\, 41)\; font-family:helvetica neue\,helvetica\,arial\,sans-serif\; font-size:14px">Instructor: Jessica Harris</span><br />\n<br />\n<span style="color:rgb(29\, 33\, 41)\; font-family:helvetica neue\,helvetica\,arial\,sans-serif\; font-size:14px">Halloween is just around the corner\, so to commemorate students will have the opportunity to draw inspiration from animal books and skulls from Jessica&#39\;s personal bone collection! Students will design drawings to apply to linoleum plates for carving a linocut print. Designs may be used to make a series of cards and prints to mat and frame. Students may choose to make their designs as simple or elaborate as they feel comfortable in doing. Tool usage\, instructions\, demonstrations\, samples\, materials are all supplied. This is going to be a great workshop with a little bit of an anatomy lesson involved! Come experiment with different gauges for carving\, peruse inspiring books and examine up close and personal a collection of found skulls from birds\, mice\, fox\, goat and deer.</span><br />\n<br />\n<span style="color:rgb(29\, 33\, 41)\; font-family:helvetica neue\,helvetica\,arial\,sans-serif\; font-size:14px">*Students may choose to carve any design if preferred. There will be plenty of animal reference books to inspire\, or create your own Halloween design!</span><br />\n$40.<br />\n<span style="color:rgb(29\, 33\, 41)\; font-family:helvetica neue\,helvetica\,arial\,sans-serif\; font-size:14px">*Wine\, tea and a snack are included. Feel free to bring your own snacks if preferred&nbsp\;</span>
LOCATION:ArtWaves 1345 State Highway 102 Bar Harbor \,ME. 04609
UID:e.3061.3960
SEQUENCE:3
DTSTAMP:20260420T131927Z
URL:https://www.visitbarharbor.com/events/details/create-sip-printmaking-skulls-in-nature-3960
END:VEVENT

END:VCALENDAR
