BEGIN:VCALENDAR
VERSION:2.0
PRODID:-//ChamberMaster//Event Calendar 2.0//EN
METHOD:PUBLISH
X-PUBLISHED-TTL:P3D
REFRESH-INTERVAL:P3D
CALSCALE:GREGORIAN
BEGIN:VEVENT
DTSTART:20180725T220000Z
DTEND:20180726T010000Z
X-MICROSOFT-CDO-ALLDAYEVENT:FALSE
SUMMARY:Create & Sip: Gardens in Glass Mosaic\,
DESCRIPTION:Create n Sip\nLearn the basics of glass mosaics\, design\, tools and tricks of the trade\, cutting\, grinding and grouting beautifully colored glass! In this workshop students are welcome to make any design they want\, but the class will focus on making floral pictures. Students are encouraged to bring in photos\, books and/or magazine clippings as reference. All materials\, wine and tea are provided.o gather up your friends and come on by!
X-ALT-DESC;FMTTYPE=text/html:<pre>\n<span style="font-family:sans-serif\,arial\,verdana\,trebuchet ms">Create n Sip\nLearn the basics of glass mosaics\, design\, tools and tricks of the trade\, cutting\, grinding and grouting beautifully colored glass! In this workshop students are welcome to make any design they want\, but the class will focus on making floral pictures. Students are encouraged to bring in photos\, books and/or magazine clippings as reference. All materials\, wine and tea are provided.o gather up your friends and come on by!</span>\n</pre>\n
LOCATION:207-266-0010 1345-A State Highway 102 Bar Harbor\, ME 04609 office@artwavesmdi.org
UID:e.3061.3372
SEQUENCE:3
DTSTAMP:20260420T182709Z
URL:https://www.visitbarharbor.com/events/details/create-sip-gardens-in-glass-mosaic-3372
END:VEVENT

END:VCALENDAR
