BEGIN:VCALENDAR
VERSION:2.0
PRODID:-//ChamberMaster//Event Calendar 2.0//EN
METHOD:PUBLISH
X-PUBLISHED-TTL:P3D
REFRESH-INTERVAL:P3D
CALSCALE:GREGORIAN
BEGIN:VEVENT
DTSTART:20190726T140000Z
DTEND:20190726T200000Z
X-MICROSOFT-CDO-ALLDAYEVENT:FALSE
SUMMARY:Create Dynamic\, Expressive Paintings from Reference Photos with Linda Packard
DESCRIPTION:For most of us painting from life is the most stimulating experience and leads to the most exciting compositions. But sometimes\, like during our long Maine winters\, working from photos is a good alternative. But translating life force and energy from a flat photo is often challenging. The tendency toward literal translation in composition and color is hard to resist. Through demos and one-on-one guidance\, you will learn ways to find the most compelling elements in your photos and work them into a dynamic composition\; simplifying the reference image to its essence using color\, shape\, line\; moving to expression rather than description. This is for painters with some experience with his or her chosen medium. Focus is completely on composition\, not painting technique. Daily demos will be in oil but all mediums are welcome. Space is limited and pre-registration is required at www.woodlawnmuseum.com.
X-ALT-DESC;FMTTYPE=text/html:For most of us painting from life is the most stimulating experience and leads to the most exciting compositions. But sometimes\, like during our long Maine winters\, working from photos is a good alternative. But translating life force and energy from a flat photo is often challenging. The tendency toward literal translation in composition and color is hard to resist. Through demos and one-on-one guidance\, you will learn ways to find the most compelling elements in your photos and work them into a dynamic composition\; simplifying the reference image to its essence using color\, shape\, line\; moving to expression rather than description. This is for painters with some experience with his or her chosen medium. Focus is completely on composition\, not painting technique. Daily demos will be in oil but all mediums are welcome. Space is limited and pre-registration is required at www.woodlawnmuseum.com.
LOCATION:Woodlawn Museum 19 Black House Dr. Ellsworth\, ME 04605
UID:e.3061.8895
SEQUENCE:3
DTSTAMP:20260419T230302Z
URL:https://www.visitbarharbor.com/events/details/create-dynamic-expressive-paintings-from-reference-photos-with-linda-packard-8895
END:VEVENT

END:VCALENDAR
