BEGIN:VCALENDAR
VERSION:2.0
PRODID:-//ChamberMaster//Event Calendar 2.0//EN
METHOD:PUBLISH
X-PUBLISHED-TTL:P3D
REFRESH-INTERVAL:P3D
CALSCALE:GREGORIAN
BEGIN:VEVENT
DTSTART:20190114T143000Z
DTEND:20190114T163000Z
X-MICROSOFT-CDO-ALLDAYEVENT:FALSE
SUMMARY:Crafting Vessels
DESCRIPTION:Liz Cutler\n\n9:30-11:30\, 4 weeks on Mondays\n\nHere's the time to learn to be an artisan in this ArtWaves workshop for beginners and artists alike. Enjoy creating vessels by felting fleece\, patting plaster\, and collaging in this fun introductory 4 week class. We have an array of colorful or neutral finishing touches for you to experiment with. Step by step instructions makes this easy\, enjoyable\, and gives endless possibilities\, plus you get to take your creations home. All materials supplied.
X-ALT-DESC;FMTTYPE=text/html:<pre>\nLiz Cutler</pre>\n\n<p>9:30-11:30\, 4 weeks on Mondays</p>\n\n<p>Here&#39\;s the time to learn to be an artisan in this ArtWaves workshop for beginners and artists alike. Enjoy creating vessels by felting fleece\, patting plaster\, and collaging in this fun introductory 4 week class. We have an array of colorful or neutral finishing touches for you to experiment with. Step by step instructions makes this easy\, enjoyable\, and gives endless possibilities\, plus you get to take your creations home. All materials supplied.</p>\n
LOCATION:ArtWaves 1345 St 102 Town Hill Campus\, Bar Harbor
UID:e.3061.4725
SEQUENCE:3
DTSTAMP:20260420T081539Z
URL:https://www.visitbarharbor.com/events/details/crafting-vessels-01-14-2019-4725
END:VEVENT

END:VCALENDAR
