BEGIN:VCALENDAR
VERSION:2.0
PRODID:-//ChamberMaster//Event Calendar 2.0//EN
METHOD:PUBLISH
X-PUBLISHED-TTL:P3D
REFRESH-INTERVAL:P3D
CALSCALE:GREGORIAN
BEGIN:VEVENT
DTSTART:20191026T223000Z
DTEND:20191027T000000Z
X-MICROSOFT-CDO-ALLDAYEVENT:FALSE
SUMMARY:Contra Dance with Big Moose Band
DESCRIPTION:Have a great time dancing the night away with the Big Moose Band at the Jesup Memorial Library on Saturday\, October 26 starting at 6:30 p.m. The caller for this month's dance is Mike Fay.\n\n \n\nFor the first hour\, there is free dance where beginners can learn the steps and dancers can brush up on their contra dance knowledge. Even if you have danced before\, it is a great time to come and have fun. Fay will teach and lead all the dances\, which gives everyone a chance to try out contra dancing in a friendly atmosphere. From 7:30 p.m. on there is an $8 requested donation per person\, or $25 per family to help pay the caller. There is no cover charge for children under 12. This event is great for dancers and non-dancers alike\, contra dancing is easy to learn and Fay will teach dancers all the moves they need to know. You do not need a partner to dance and everyone is invited to join in on the fun.\n\n \n\nThe Big Moose Band provides the amazing music that you will dance along with. Big Moose features some of the area's finest musicians including Ruth Grierson\, Keith Davis\, Jim Vekasi\, Charlie Richardson\, Fred Benson\, Ed Damm and Anne Damm\, among others.\n\n \n\nFor more information on the dance\, contact the Jesup at 207-288-4245.
X-ALT-DESC;FMTTYPE=text/html:<span style="font-family:times new roman\,serif"><span style="font-size:14.0pt">Have a great time dancing the night away with the Big Moose Band at the Jesup Memorial Library on Saturday\, October 26 starting at 6:30 p.m. The caller for this month&rsquo\;s dance is Mike Fay.</span></span><br />\n&nbsp\;<br />\n<span style="font-family:times new roman\,serif"><span style="font-size:14.0pt">For the first hour\, there is free dance where beginners can learn the steps and dancers can brush up on their contra dance knowledge. Even if you have danced before\, it is a great time to come and have fun. Fay will teach and lead all the dances\, which gives everyone a chance to try out contra dancing in a friendly atmosphere. From 7:30 p.m. on there is an $8 requested donation per person\, or $25 per family to help pay the caller. There is no cover charge for children under 12. This event is great for dancers and non-dancers alike\, contra dancing is easy to learn and Fay will teach dancers all the moves they need to know. You do not need a partner to dance and everyone is invited to join in on the fun.</span></span><br />\n&nbsp\;<br />\n<span style="font-family:times new roman\,serif"><span style="font-size:14.0pt">The Big Moose Band provides the amazing music that you will dance along with. Big Moose features some of the area&rsquo\;s finest musicians including Ruth Grierson\, Keith Davis\, Jim Vekasi\, Charlie Richardson\, Fred Benson\, Ed Damm and Anne Damm\, among others.</span></span><br />\n&nbsp\;<br />\n<span style="font-family:times new roman\,serif"><span style="font-size:14.0pt">For more information on the dance\, contact the Jesup at 207-288-4245.</span></span>
LOCATION:Jesup Memorial Library\, 34 Mt. Desert St. Bar Harbor\, ME 04609
UID:e.3061.16263
SEQUENCE:3
DTSTAMP:20260419T173601Z
URL:https://www.visitbarharbor.com/events/details/contra-dance-with-big-moose-band-10-26-2019-16263
END:VEVENT

END:VCALENDAR
