BEGIN:VCALENDAR
VERSION:2.0
PRODID:-//ChamberMaster//Event Calendar 2.0//EN
METHOD:PUBLISH
X-PUBLISHED-TTL:P3D
REFRESH-INTERVAL:P3D
CALSCALE:GREGORIAN
BEGIN:VEVENT
DTSTART:20190928T223000Z
DTEND:20190929T010000Z
X-MICROSOFT-CDO-ALLDAYEVENT:FALSE
SUMMARY:Contra Dance with Big Moose Band
DESCRIPTION:Dance the night away with the Big Moose Band at the Jesup Memorial Library on Saturday\, Sept. 28 starting at 6:30 p.m. If you wonder how the library hosts a contra dance every month\, this is your chance to find out. Everyone is invited to this fun event\, contra dance novices\, dance experts and families alike. You do not need a partner to dance or to have a great time. Just put on your dancing shoes and come on down to the Jesup.\n\n \n\nFrom 6:30 to 7:30 p.m.\, there is no cover charge to dance. Stop by during this time to learn the steps in a friendly\, nonjudgmental atmosphere. From 7:30 p.m.\, there is an $8 requested donation to help pay the caller or $25 per family. Kids 12 and under can dance all night free. Find out what contra dancing is all about and have a great night. \n\n \n\nThat night the Big Moose Band will provided the amazing music that will have you wanting to dance. Big Moose features some of the area's finest musicians including Ruth Grierson\, Keith Davis\, Jim Vekasi\, Charlie Richardson\, Fred Benson\, Ed Damm and Anne Damm\, among others.\n\n \n\nFor more information on the dance\, contact the Jesup at 207-288-4245.
X-ALT-DESC;FMTTYPE=text/html:<span style="font-family:times new roman\,serif"><span style="font-size:14.0pt">Dance the night away with the Big Moose Band at the Jesup Memorial Library on Saturday\, Sept. 28 starting at 6:30 p.m. If you wonder how the library hosts a contra dance every month\, this is your chance to find out. Everyone is invited to this fun event\, contra dance novices\, dance experts and families alike. You do not need a partner to dance or to have a great time. Just put on your dancing shoes and come on down to the Jesup.</span></span><br />\n&nbsp\;<br />\n<span style="font-family:times new roman\,serif"><span style="font-size:14.0pt">From 6:30 to 7:30 p.m.\, there is no cover charge to dance. Stop by during this time to learn the steps in a friendly\, nonjudgmental atmosphere. From 7:30 p.m.\, there is an $8 requested donation to help pay the caller or $25 per family. Kids 12 and under can dance all night free. Find out what contra dancing is all about and have a great night. </span></span><br />\n&nbsp\;<br />\n<span style="font-family:times new roman\,serif"><span style="font-size:14.0pt">That night the Big Moose Band will provided the amazing music that will have you wanting to dance. Big Moose features some of the area&rsquo\;s finest musicians including Ruth Grierson\, Keith Davis\, Jim Vekasi\, Charlie Richardson\, Fred Benson\, Ed Damm and Anne Damm\, among others.</span></span><br />\n&nbsp\;<br />\n<span style="font-family:times new roman\,serif"><span style="font-size:14.0pt">For more information on the dance\, contact the Jesup at 207-288-4245. </span></span>
LOCATION:Jesup Memorial Library\, 34 Mt. Desert St.\, Bar Harbor\, ME 04609
UID:e.3061.14674
SEQUENCE:3
DTSTAMP:20260419T173727Z
URL:https://www.visitbarharbor.com/events/details/contra-dance-with-big-moose-band-09-28-2019-14674
END:VEVENT

END:VCALENDAR
