BEGIN:VCALENDAR
VERSION:2.0
PRODID:-//ChamberMaster//Event Calendar 2.0//EN
METHOD:PUBLISH
X-PUBLISHED-TTL:P3D
REFRESH-INTERVAL:P3D
CALSCALE:GREGORIAN
BEGIN:VEVENT
DTSTART:20180728T223000Z
DTEND:20180729T010000Z
X-MICROSOFT-CDO-ALLDAYEVENT:FALSE
SUMMARY:Contra Dance with Big Moose Band
DESCRIPTION:Dance the night away with the Big Moose Band at the monthly contra dance at the Jesup Memorial Library. If you've never contra danced before\, if you have two left feet\, or if you dance all the time\, it doesn't matter\, it's a fun night for everyone. All dances are taught beforehand so anyone can join in. No partner is necessary\, just bring your dancing shoes!\n\n \n\nBig Moose features some of the area's finest musicians including Ruth Grierson\, Keith Davis\, Jim Vekasi\, Charlie Richardson\, Fred Benson\, Ed Damm and Anne Damm\, among others. Bring your family\, friends or come alone. There is a requested $8 donation for adults or $25 for families to help pay the caller and children under 12 and College of the Atlantic students get in for free.
X-ALT-DESC;FMTTYPE=text/html:<span style="font-family:times new roman\,serif"><span style="font-size:14.0pt">Dance the night away with the Big Moose Band at the monthly contra dance at the Jesup Memorial Library. If you&rsquo\;ve never contra danced before\, if you have two left feet\, or if you dance all the time\, it doesn&rsquo\;t matter\, it&rsquo\;s a fun night for everyone. All dances are taught beforehand so anyone can join in. No partner is necessary\, just bring your dancing shoes!</span></span><br />\n&nbsp\;<br />\n<span style="font-family:times new roman\,serif"><span style="font-size:14.0pt">Big Moose features some of the area&rsquo\;s finest musicians including Ruth Grierson\, Keith Davis\, Jim Vekasi\, Charlie Richardson\, Fred Benson\, Ed Damm and Anne Damm\, among others. Bring your family\, friends or come alone. There is a requested $8 donation for adults or $25 for families to help pay the caller and children under 12 and College of the Atlantic students get in for free. </span></span>
LOCATION:Jesup Memorial Library\, 34 Mt. Desert St.\, Bar Harbor\, ME 04609
UID:e.3061.2532
SEQUENCE:3
DTSTAMP:20260420T232833Z
URL:https://www.visitbarharbor.com/events/details/contra-dance-with-big-moose-band-07-28-2018-2532
END:VEVENT

END:VCALENDAR
