BEGIN:VCALENDAR
VERSION:2.0
PRODID:-//ChamberMaster//Event Calendar 2.0//EN
METHOD:PUBLISH
X-PUBLISHED-TTL:P3D
REFRESH-INTERVAL:P3D
CALSCALE:GREGORIAN
BEGIN:VEVENT
DTSTART:20190427T223000Z
DTEND:20190428T010000Z
X-MICROSOFT-CDO-ALLDAYEVENT:FALSE
SUMMARY:Contra Dance with Big Moose Band
DESCRIPTION:Join Big Moose Band and caller Chrissy Fowler for a community contra dance on Saturday\, April 27 starting at 6:30 p.m. at the Jesup Memorial Library. From 6:30 p.m. to 7:30 p.m. there will be a free family dance and then starting at 7:30 p.m. it will be a regular contra dance. \n\n \n\nThe free family dance is perfect for families and beginners who have never contra danced before. Fowler will teach and lead all the dances\, which gives everyone a chance to try out contra dancing in a fun\, friendly atmosphere. Starting at 7:30 p.m. the regular contra dance will be begin and all dances will be taught. There is an $8 requested donation for all adults and kids ages 12 and under and College of the Atlantic students can dance for free. The maximum requested donation for families is $25. \n\n \n\nThat night the Big Moose Band provides the amazing music will have you wanting to dance. Big Moose features some of the area's finest musicians including Ruth Grierson\, Keith Davis\, Jim Vekasi\, Charlie Richardson\, Fred Benson\, Ed Damm and Anne Damm\, among others.\n\n \n\nFor more information on the dance\, contact the Jesup at 207-288-4245 or mrice@jesuplibrary.org.
X-ALT-DESC;FMTTYPE=text/html:<span style="font-family:times new roman\,serif"><span style="font-size:14.0pt">Join Big Moose Band and caller Chrissy Fowler for a community contra dance on Saturday\, April 27 starting at 6:30 p.m. at the Jesup Memorial Library. From 6:30 p.m. to 7:30 p.m. there will be a free family dance and then starting at 7:30 p.m. it will be a regular contra dance. </span></span><br />\n&nbsp\;<br />\n<span style="font-family:times new roman\,serif"><span style="font-size:14.0pt">The free family dance is perfect for families and beginners who have never contra danced before. Fowler will teach and lead all the dances\, which gives everyone a chance to try out contra dancing in a fun\, friendly atmosphere. Starting at 7:30 p.m. the regular contra dance will be begin and all dances will be taught. There is an $8 requested donation for all adults and kids ages 12 and under and College of the Atlantic students can dance for free. The maximum requested donation for families is $25. </span></span><br />\n&nbsp\;<br />\n<span style="font-family:times new roman\,serif"><span style="font-size:14.0pt">That night the Big Moose Band provides the amazing music will have you wanting to dance. Big Moose features some of the area&rsquo\;s finest musicians including Ruth Grierson\, Keith Davis\, Jim Vekasi\, Charlie Richardson\, Fred Benson\, Ed Damm and Anne Damm\, among others.</span></span><br />\n&nbsp\;<br />\n<span style="font-family:times new roman\,serif"><span style="font-size:14.0pt">For more information on the dance\, contact the Jesup at <span class="gc-cs-link" id="gc-number-0" title="Call with Google Voice">207-288-4245</span> or mrice@jesuplibrary.org.</span></span>
LOCATION:Jesup Memorial Library\, 34 Mt. Desert St.\, Bar Harbor
UID:e.3061.8864
SEQUENCE:3
DTSTAMP:20260420T043320Z
URL:https://www.visitbarharbor.com/events/details/contra-dance-with-big-moose-band-04-27-2019-8864
END:VEVENT

END:VCALENDAR
