BEGIN:VCALENDAR
VERSION:2.0
PRODID:-//ChamberMaster//Event Calendar 2.0//EN
METHOD:PUBLISH
X-PUBLISHED-TTL:P3D
REFRESH-INTERVAL:P3D
CALSCALE:GREGORIAN
BEGIN:VEVENT
DTSTART:20190223T233000Z
DTEND:20190224T030000Z
X-MICROSOFT-CDO-ALLDAYEVENT:FALSE
SUMMARY:Contra Dance with Big Moose Band
DESCRIPTION:Join Big Moose Band for a rousing evening of contra dancing with caller Chrissy Fowler on Saturday\, Feb. 23 from 6:30 to 10 p.m. at the Jesup Memorial Library. This month's dance features a free\, family dance from 6:30 to 7:30 p.m. where beginners\, families and nondancers can learn the dances beforehand and then put them to music in a friendly\, judgement-free atmosphere. Starting at 7:30 p.m. the regular contra dance will be begin and all dances will be taught. This is a great time to have fun and dance the night away. There is an $8 requested donation for all adults and kids ages 12 and under and College of the Atlantic students can dance for free. The maximum requested donation for families is $25. \n\n\n\nThe Big Moose Band provides the amazing music that you will dance along with. Big Moose features some of the area's finest musicians including Ruth Grierson\, Keith Davis\, Jim Vekasi\, Charlie Richardson\, Fred Benson\, Ed Damm and Anne Damm\, among others.\n\n\n\nFor more information on the dance contact the Jesup at 207-288-4245 or mrice@jesuplibrary.org.
X-ALT-DESC;FMTTYPE=text/html:Join Big Moose Band for a rousing evening of contra dancing with caller Chrissy Fowler on Saturday\, Feb. 23 from 6:30 to 10 p.m. at the Jesup Memorial Library. This month&rsquo\;s dance features a free\, family dance from 6:30 to 7:30 p.m. where beginners\, families and nondancers can learn the dances beforehand and then put them to music in a friendly\, judgement-free atmosphere. Starting at 7:30 p.m. the regular contra dance will be begin and all dances will be taught. This is a great time to have fun and dance the night away. There is an $8 requested donation for all adults and kids ages 12 and under and College of the Atlantic students can dance for free. The maximum requested donation for families is $25.&nbsp\;<br />\n<br />\nThe Big Moose Band provides the amazing music that you will dance along with. Big Moose features some of the area&rsquo\;s finest musicians including Ruth Grierson\, Keith Davis\, Jim Vekasi\, Charlie Richardson\, Fred Benson\, Ed Damm and Anne Damm\, among others.<br />\n<br />\n<span>For more information on the dance contact the Jesup at <span class="gc-cs-link" id="gc-number-0" title="Call with Google Voice">207-288-4245</span> or mrice@jesuplibrary.org.</span>
LOCATION:Jesup Memorial Library\, 34 Mt. Desert St.\, Bar Harbor\, ME 04609
UID:e.3061.5130
SEQUENCE:3
DTSTAMP:20260420T062735Z
URL:https://www.visitbarharbor.com/events/details/contra-dance-with-big-moose-band-02-23-2019-5130
END:VEVENT

END:VCALENDAR
