BEGIN:VCALENDAR
VERSION:2.0
PRODID:-//ChamberMaster//Event Calendar 2.0//EN
METHOD:PUBLISH
X-PUBLISHED-TTL:P3D
REFRESH-INTERVAL:P3D
CALSCALE:GREGORIAN
BEGIN:VEVENT
DTSTART:20181019T230000Z
DTEND:20181020T010000Z
X-MICROSOFT-CDO-ALLDAYEVENT:FALSE
SUMMARY:Concert and Book Talk: Robert Hunter
DESCRIPTION:Join author and musician Robert Hunter for a special concert and book talk as part of his "Relapse + Revival" tour at the Jesup Memorial Library on Friday\, Oct. 19 at 7 p.m. Hunter\, a Nashville-based musician\, plays what is described as lyrical alt-country-rock. He will read from "Relapse\," the book he recently published and will play pieces from "Revival" his new CD.\n\n \n\n"Relapse" tells the story of Rob Wildhide\, a writer\, who knows he will one day be a celebrated novelist. But first\, he'll have to overcome writer's block and survive a wayward trip to the North Woods of Maine with his new bride\, Annie. "Relapse" is part love story and part drunken ride full of shaman-led weddings and car heists.\n\n \n\nThe tour and book were inspired by his Hunter's wife Becky and her battle with cancer. He originally wrote the book as a way to make Becky laugh. In the days leading up to a critical surgery\, Becky made Hunter promise to publish his book\, and to share both his book and his music with others. Now cancer free\, Becky and Hunter are on a cross-country music and book tour visiting each state along the way. \n\n \n\nBooks will be on sale that night courtesy of Sherman's Books. For more information on Hunter visit roberthuntermusic.net and for more information on the talk contact the Jesup at 207-288-4245 or mrice@jesuplibrary.org.
X-ALT-DESC;FMTTYPE=text/html:<span style="font-family:times new roman\,serif"><span style="font-size:14.0pt">Join author and musician Robert Hunter for a special concert and book talk as part of his &ldquo\;Relapse + Revival&rdquo\; tour at the Jesup Memorial Library on Friday\, Oct. 19 at 7 p.m. Hunter\, a Nashville-based musician\, plays what is described as lyrical alt-country-rock. He will read from &ldquo\;Relapse\,&rdquo\; the book he recently published and will play pieces from &ldquo\;Revival&rdquo\; his new CD.</span></span><br />\n&nbsp\;<br />\n<span style="font-family:times new roman\,serif"><span style="font-size:14.0pt">&ldquo\;Relapse&rdquo\; tells the story of Rob Wildhide\, a writer\, who knows he will one day be a celebrated novelist. But first\, he&rsquo\;ll have to overcome writer&rsquo\;s block and survive a wayward trip to the North Woods of Maine with his new bride\, Annie. &ldquo\;Relapse&rdquo\; is part love story and part drunken ride full of shaman-led weddings and car heists.</span></span><br />\n&nbsp\;<br />\n<span style="font-family:times new roman\,serif"><span style="font-size:14.0pt">The tour and book were inspired by his Hunter&rsquo\;s wife Becky and her battle with cancer. He originally wrote the book as a way to make Becky laugh. In the days leading up to a critical surgery\, Becky made Hunter promise to publish his book\, and to share both his book and his music with others. Now cancer free\, Becky and Hunter are on a cross-country music and book tour visiting each state along the way. </span></span><br />\n&nbsp\;<br />\n<span style="font-family:times new roman\,serif"><span style="font-size:14.0pt"><span>Books will be on sale that night courtesy of Sherman&rsquo\;s Books. For more information on Hunter visit roberthuntermusic.net and for more information on the talk contact the Jesup at <span class="gc-cs-link" id="gc-number-0" title="Call with Google Voice">207-288-4245</span> or </span><a href="mailto:mrice@jesuplibrary.org">mrice@jesuplibrary.org</a></span>. </span>
LOCATION:Jesup Memorial Library\, 34 Mt. Desert St.\, Bar Harbor\, ME 04609
UID:e.3061.3936
SEQUENCE:3
DTSTAMP:20260420T131957Z
URL:https://www.visitbarharbor.com/events/details/concert-and-book-talk-robert-hunter-3936
END:VEVENT

END:VCALENDAR
