BEGIN:VCALENDAR
VERSION:2.0
PRODID:-//ChamberMaster//Event Calendar 2.0//EN
METHOD:PUBLISH
X-PUBLISHED-TTL:P3D
REFRESH-INTERVAL:P3D
CALSCALE:GREGORIAN
BEGIN:VEVENT
DTSTART:20190105T230000Z
DTEND:20190106T000000Z
X-MICROSOFT-CDO-ALLDAYEVENT:FALSE
SUMMARY:Community Recovery Pot Luck
DESCRIPTION:The Downeast Treatment Center would like to invite the community to come check out our newly established treatment center over a nice hot dish. Free food and drinks. There will be time to share ideas and build community support in recovery as well. We look forward to seeing new faces! We are excited to share what we are now offering here to people in recovery!
X-ALT-DESC;FMTTYPE=text/html:The Downeast Treatment Center would like to invite the community to come check out our newly established treatment center over a nice hot dish. Free food and drinks. There will be time to share ideas and build community support in recovery as well. We look forward to seeing new faces! We are excited to share what we are now offering here to people in recovery!
LOCATION:406 State Street Suite 2 Ellsworth Maine
UID:e.3061.4826
SEQUENCE:3
DTSTAMP:20260420T081505Z
URL:https://www.visitbarharbor.com/events/details/community-recovery-pot-luck-4826
END:VEVENT

END:VCALENDAR
