BEGIN:VCALENDAR
VERSION:2.0
PRODID:-//ChamberMaster//Event Calendar 2.0//EN
METHOD:PUBLISH
X-PUBLISHED-TTL:P3D
REFRESH-INTERVAL:P3D
CALSCALE:GREGORIAN
BEGIN:VEVENT
DTSTART:20190104T223000Z
DTEND:20190105T000000Z
X-MICROSOFT-CDO-ALLDAYEVENT:FALSE
SUMMARY:Community Appreciation Party
DESCRIPTION:Staff and trustees of Southwest Harbor Public Library invite all to the Library on Friday evening\, January 4\, 5:30   7:00 for a Community Appreciation Party. There will be music\, refreshments\, and the fun of getting together. For more information\, please call the Library at 244-7065.
X-ALT-DESC;FMTTYPE=text/html:Staff and trustees of Southwest Harbor Public Library invite all to the Library on Friday evening\, January 4\, 5:30 &ndash\; 7:00 for a Community Appreciation Party. There will be music\, refreshments\, and the fun of getting together. For more information\, please call the Library at 244-7065.
LOCATION:Southwest Harbor Public Library
UID:e.3061.4828
SEQUENCE:3
DTSTAMP:20260420T081401Z
URL:https://www.visitbarharbor.com/events/details/community-appreciation-party-4828
END:VEVENT

END:VCALENDAR
