BEGIN:VCALENDAR
VERSION:2.0
PRODID:-//ChamberMaster//Event Calendar 2.0//EN
METHOD:PUBLISH
X-PUBLISHED-TTL:P3D
REFRESH-INTERVAL:P3D
CALSCALE:GREGORIAN
BEGIN:VEVENT
DTSTART:20190804T000000Z
DTEND:20190804T020000Z
X-MICROSOFT-CDO-ALLDAYEVENT:FALSE
SUMMARY:Comedian Bob Marley
DESCRIPTION:Bob loves being a comedian\, and he's wicked good at it! He lives in Maine\, and is featured regularly on Sirius XM radio\, even winning their Superbowl of Comedy! With over 20 comedy CDs and DVDs\, Bob has appeared on over 100 TV shows including Leno\, Letterman\, Conan\, Jimmy Fallon\, Craig Ferguson\, and the Comedy Central channel. You may also know him from his role as Detective Greenly in Boondock Saints I and II. Bob has toured the U.S.\, Europe\, Canada\, Kuwait and Iraq\, and we can't wait to have him in Bar Harbor. This show is considered PG-13 by the artist\, please use parental discretion.
X-ALT-DESC;FMTTYPE=text/html:Bob loves being a comedian\, and he&#39\;s wicked good at it! He lives in Maine\, and is featured regularly on Sirius XM radio\, even winning their Superbowl of Comedy! With over 20 comedy CDs and DVDs\, Bob has appeared on over 100 TV shows including Leno\, Letterman\, Conan\, Jimmy Fallon\, Craig Ferguson\, and the Comedy Central channel. You may also know him from his role as Detective Greenly in Boondock Saints I and II. Bob has toured the U.S.\, Europe\, Canada\, Kuwait and Iraq\, and we can&#39\;t wait to have him in Bar Harbor. This show is considered PG-13 by the artist\, please use parental discretion.
LOCATION:1932 Criterion Theatre 35 Cottage Street Bar Harbor\, ME 04609
UID:e.3061.12937
SEQUENCE:3
DTSTAMP:20260419T192102Z
URL:https://www.visitbarharbor.com/events/details/comedian-bob-marley-12937
END:VEVENT

END:VCALENDAR
