BEGIN:VCALENDAR
VERSION:2.0
PRODID:-//ChamberMaster//Event Calendar 2.0//EN
METHOD:PUBLISH
X-PUBLISHED-TTL:P3D
REFRESH-INTERVAL:P3D
CALSCALE:GREGORIAN
BEGIN:VEVENT
DTSTART:20190123T230000Z
DTEND:20190124T000000Z
X-MICROSOFT-CDO-ALLDAYEVENT:FALSE
SUMMARY:"Come to Tea with Mr. Putter\, Tabby and Me" Pajama Story Time
DESCRIPTION:Kids four and older are invited to a tea party with Miss Mae during a special pajama story time on Wednesday\, January 23 at 6 p.m. at the Jesup Memorial Library. Come dressed in your pajamas and ready for a tea party! Miss Mae will read "Mr. Putter & Tabby Pour the Tea" by Cynthia Rylant\, "Tea Rex" by Molly Idle\, and "Brimsby's Hats" by Andrew Prahin. After reading\, kids can sip tea (or juice) while making their own teacups and saucers to take home.\n\n \n\nFor more information contact the Jesup at 207-288-4245.
X-ALT-DESC;FMTTYPE=text/html:<span style="font-family:times new roman\,serif"><span style="font-size:14.0pt">Kids four and older are invited to a tea party with Miss Mae during a special pajama story time on Wednesday\, January 23 at 6 p.m. at the Jesup Memorial Library. Come dressed in your pajamas and ready for a tea party! Miss Mae will read &ldquo\;Mr. Putter &amp\; Tabby Pour the Tea&rdquo\; by Cynthia Rylant\, &ldquo\;Tea Rex&rdquo\; by Molly Idle\, and &ldquo\;Brimsby&#39\;s Hats&rdquo\; by Andrew Prahin. After reading\, kids can sip tea (or juice) while making their own teacups and saucers to take home.</span></span><br />\n&nbsp\;<br />\n<span style="font-family:times new roman\,serif"><span style="font-size:14.0pt">For more information contact the Jesup at 207-288-4245. &nbsp\;</span></span><br />\n&nbsp\;
LOCATION:Jesup Memorial Library\, 34 Mt. Desert St.\, Bar Harbor\, ME 04609
UID:e.3061.4857
SEQUENCE:3
DTSTAMP:20260420T082027Z
URL:https://www.visitbarharbor.com/events/details/come-to-tea-with-mr-putter-tabby-and-me-pajama-story-time-4857
END:VEVENT

END:VCALENDAR
