BEGIN:VCALENDAR
VERSION:2.0
PRODID:-//ChamberMaster//Event Calendar 2.0//EN
METHOD:PUBLISH
X-PUBLISHED-TTL:P3D
REFRESH-INTERVAL:P3D
CALSCALE:GREGORIAN
BEGIN:VEVENT
DTSTART:20180713T140000Z
DTEND:20180713T180000Z
X-MICROSOFT-CDO-ALLDAYEVENT:FALSE
SUMMARY:Colored Pencil Drawing Techniques with artist John DelMastro
DESCRIPTION:This course with Artist John DelMastro will focus on the technique of blending soft color pencils together to accomplish an almost" paint like" feel. This method has nothing to do with using watercolor pencils or adding any liquid substance to the medium nor is it working with pastels or charcoal. The course is designed to teach you how to draw out color from a pencil through a series of practical exercises. You will be sketching very simple objects\, and learning how to add dark and light values as well as bring out texture with colored pencils. All skill levels are welcome.\n\n$45 for members/$55 for non-members.  A list of supplies will be emailed to registered participants.  Space is limited and pre-registration is required.
X-ALT-DESC;FMTTYPE=text/html:<div>\n<p>This course with Artist <a href="http://j54dell.wixsite.com/john-delmastro">John DelMastro</a> will focus on the technique of blending soft color pencils together to accomplish an almost&rdquo\; paint like&rdquo\; feel. This method has nothing to do with using watercolor pencils or adding any liquid substance to the medium nor is it working with pastels or charcoal. The course is designed to teach you how to draw out color from a pencil through a series of practical exercises. You will be sketching very simple objects\, and learning how to add dark and light values as well as bring out texture with colored pencils. All skill levels are welcome.</p>\n\n<p>$45 for members/$55 for non-members. &nbsp\;A list of supplies will be emailed to registered participants. &nbsp\;<strong>Space is limited and <a href="https://woodlawnmuseum.com/event/colored-pencil-drawing-techniques-2-copy/">pre-registration is required.</a></strong></p>\n</div>\n
LOCATION:Woodlawn Museum\, 19 Black House Drive\, Ellsworth\, ME 04605
UID:e.3061.2196
SEQUENCE:3
DTSTAMP:20260420T182708Z
URL:https://www.visitbarharbor.com/events/details/colored-pencil-drawing-techniques-with-artist-john-delmastro-2196
END:VEVENT

END:VCALENDAR
