BEGIN:VCALENDAR
VERSION:2.0
PRODID:-//ChamberMaster//Event Calendar 2.0//EN
METHOD:PUBLISH
X-PUBLISHED-TTL:P3D
REFRESH-INTERVAL:P3D
CALSCALE:GREGORIAN
BEGIN:VEVENT
DTSTART:20190928T170000Z
DTEND:20190928T190000Z
X-MICROSOFT-CDO-ALLDAYEVENT:FALSE
SUMMARY:Color Theory for Visual Artists
DESCRIPTION:with Rob Pollien. In this class\, we will begin by working through a few of the classic color problems as taught by Josef Albers of the Bauhaus\, Black Mountain College\, and Yale University. Students will also tackle additional topics that relate specifically to the effective use of color in painting.
X-ALT-DESC;FMTTYPE=text/html:with Rob Pollien. In this class\, we will begin by working through a few of the classic color problems as taught by Josef Albers of the Bauhaus\, Black Mountain College\, and Yale University. Students will also tackle additional topics that relate specifically to the effective use of color in painting.&nbsp\;
LOCATION:ArtWaves\, 1345-A State Highway 102\, Bar Harbor.
UID:e.3061.15075
SEQUENCE:3
DTSTAMP:20260419T173105Z
URL:https://www.visitbarharbor.com/events/details/color-theory-for-visual-artists-15075
END:VEVENT

END:VCALENDAR
