BEGIN:VCALENDAR
VERSION:2.0
PRODID:-//ChamberMaster//Event Calendar 2.0//EN
METHOD:PUBLISH
X-PUBLISHED-TTL:P3D
REFRESH-INTERVAL:P3D
CALSCALE:GREGORIAN
BEGIN:VEVENT
DTSTART:20190308T000000Z
DTEND:20190308T020000Z
X-MICROSOFT-CDO-ALLDAYEVENT:FALSE
SUMMARY:College of the Atlantic presents "Everybody"
DESCRIPTION:Enjoy College of the Atlantic's presentation of Branden Jacobs-Jenkins' "Everybody"\, a contemporary take on the 15th century play "Everyman". Put on by the Play Production Class of winter 2019.
X-ALT-DESC;FMTTYPE=text/html:Enjoy College of the Atlantic&rsquo\;s presentation of Branden Jacobs-Jenkins&rsquo\; &ldquo\;Everybody&rdquo\;\, a contemporary take on the 15th century play &ldquo\;Everyman&rdquo\;. Put on by the Play Production Class of winter 2019.
LOCATION:College of the Atlantic Gates Community Center
UID:e.3061.5117
SEQUENCE:3
DTSTAMP:20260420T043506Z
URL:https://www.visitbarharbor.com/events/details/college-of-the-atlantic-presents-everybody-5117
END:VEVENT

END:VCALENDAR
