BEGIN:VCALENDAR
VERSION:2.0
PRODID:-//ChamberMaster//Event Calendar 2.0//EN
METHOD:PUBLISH
X-PUBLISHED-TTL:P3D
REFRESH-INTERVAL:P3D
CALSCALE:GREGORIAN
BEGIN:VEVENT
DTSTART:20180609T180000Z
DTEND:20180609T210000Z
X-MICROSOFT-CDO-ALLDAYEVENT:FALSE
SUMMARY:College of the Atlantic Commencement
DESCRIPTION:The weekend's activities begin Friday with capstone senior project presentations and end with awards and receptions for graduating seniors and their families.\n\nOn Saturday\, the soon-to-be graduates\, led by bagpipers and the grand marshal\, process past cheering family and friends. The board chair and president provide a welcome\, three graduating seniors share their perspectives\, and the commencement speaker chosen by the senior class addresses the audience.\n\n \n\nAs degrees are conferred\, students announce a fellow graduate's name and present each other with flowers. The ceremony is followed by an open reception in the Newlin Gardens.
X-ALT-DESC;FMTTYPE=text/html:<div>The weekend&rsquo\;s activities begin Friday with capstone senior project presentations and end with awards and receptions for graduating seniors and their families.</div>\n\n<div>On Saturday\, the soon-to-be graduates\, led by bagpipers and the grand marshal\, process past cheering family and friends. The board chair and president provide a welcome\, three graduating seniors share their perspectives\, and the commencement speaker chosen by the senior class addresses the audience.</div>\n\n<div>&nbsp\;</div>\n\n<div>As degrees are conferred\, students announce a fellow graduate&rsquo\;s name and present each other with flowers. The ceremony is followed by an open reception in the Newlin Gardens.</div>\n
LOCATION:Front Lawn\, College of the Atlantic
UID:e.3061.808
SEQUENCE:3
DTSTAMP:20260420T200046Z
URL:https://www.visitbarharbor.com/events/details/college-of-the-atlantic-commencement-808
END:VEVENT

END:VCALENDAR
