BEGIN:VCALENDAR
VERSION:2.0
PRODID:-//ChamberMaster//Event Calendar 2.0//EN
METHOD:PUBLISH
X-PUBLISHED-TTL:P3D
REFRESH-INTERVAL:P3D
CALSCALE:GREGORIAN
BEGIN:VEVENT
DTSTART:20190823T140000Z
DTEND:20190823T200000Z
X-MICROSOFT-CDO-ALLDAYEVENT:FALSE
SUMMARY:Collage & Oil Paint Portraits - Two Day Workshop
DESCRIPTION:With Katie Wilson. You will be introduced to the materials and initially to a step by step collage process. Once the collage pieces are glued in place\, the oil paint is then applied.  After this initial guided introduction to the process\, you will have the liberty to pick and choose\, tear and cut\, paint and draw with your own ideas in mind.  ArtWaves\, 1345-A State Highway 102\, Bar Harbor. Call 266-0010  or email office@artwavesmdi.org.
X-ALT-DESC;FMTTYPE=text/html:With Katie Wilson. You will be introduced to the materials and initially to a step by step collage process. Once the collage pieces are glued in place\, the oil paint is then applied.&nbsp\; After this initial guided introduction to the process\, you will have the liberty to pick and choose\, tear and cut\, paint and draw with your own ideas in mind.&nbsp\; ArtWaves\, 1345-A State Highway 102\, Bar Harbor. Call 266-0010&nbsp\; or email office@artwavesmdi.org.
LOCATION:ArtWaves\, 1345-A State Highway 102\, Bar Harbor.
UID:e.3061.14493
SEQUENCE:3
DTSTAMP:20260419T192505Z
URL:https://www.visitbarharbor.com/events/details/collage-oil-paint-portraits-two-day-workshop-14493
END:VEVENT

END:VCALENDAR
