BEGIN:VCALENDAR
VERSION:2.0
PRODID:-//ChamberMaster//Event Calendar 2.0//EN
METHOD:PUBLISH
X-PUBLISHED-TTL:P3D
REFRESH-INTERVAL:P3D
CALSCALE:GREGORIAN
BEGIN:VEVENT
DTSTART:20180725T163000Z
DTEND:20180725T193000Z
X-MICROSOFT-CDO-ALLDAYEVENT:FALSE
SUMMARY:Collage: Exploring the Art Process with a Beginner’s Mind\, an SFOA Workshop
DESCRIPTION:Through the art of collage (applying paper to paper)\, we will explore the creative process in a series of art exercises using a variety of materials. This workshop is taught by Carol Shutt\, a K-8 art teacher for over twenty-five years on MDI. "I believe the art of collage\, which immerses you in a personal selection process as you respond to your materials and ideas\, is a great medium for exploration and individual expression." Carol has designed this workshop to encourage the artist within each of us through guided activities and creative experiences that will nurture our creative spirits Instructor: Carol Shutt
X-ALT-DESC;FMTTYPE=text/html:<div>\n<div><span style="background-color:rgb(254\, 253\, 253)\; color:rgb(46\, 46\, 46)\; font-family:open sans\; font-size:15.4px">Through the art of collage (applying paper to paper)\, we will explore the creative process in a series of art exercises using a variety of materials. This workshop is taught by Carol Shutt\, a K-8 art teacher for over twenty-five years on MDI. &ldquo\;I believe the art of collage\, which immerses you in a personal selection process as you respond to your materials and ideas\, is a great medium for exploration and individual expression.&rdquo\; Carol has designed this workshop to encourage the artist within each of us through guided activities and creative experiences that will nurture our creative spirits&nbsp\;</span><span style="background-color:rgb(254\, 253\, 253)\; color:rgb(46\, 46\, 46)\; font-family:open sans\; font-size:15.4px\; line-height:24.64px">Instructor: Carol Shutt</span></div>\n</div>\n
LOCATION:ArtWaves\, 1345-A ME-102\, Bar Harbor\, ME 04609\, USA
UID:e.3061.3370
SEQUENCE:3
DTSTAMP:20260420T182336Z
URL:https://www.visitbarharbor.com/events/details/collage-exploring-the-art-process-with-a-beginner-s-mind-an-sfoa-workshop-3370
END:VEVENT

END:VCALENDAR
