BEGIN:VCALENDAR
VERSION:2.0
PRODID:-//ChamberMaster//Event Calendar 2.0//EN
METHOD:PUBLISH
X-PUBLISHED-TTL:P3D
REFRESH-INTERVAL:P3D
CALSCALE:GREGORIAN
BEGIN:VEVENT
DTSTART:20180912T223000Z
DTEND:20180912T233000Z
X-MICROSOFT-CDO-ALLDAYEVENT:FALSE
SUMMARY:Cloud Watching: A Nature Program at Woodlawn
DESCRIPTION:Remember those carefree childhood days of lying in the sun watching clouds drift by? Recapture that feeling with arm-chair cloud gazing while learning cloud types and what weather they herald. Then decide just what that cloud looks like .an elephant playing a tuba? Woodlawn's nature programs\, led by naturalist Lynn Havsall\, are a fun learning experience open for all ages. Children under 12 must be accompanied by an adult. Nature programs are free and open to the public. Donations\, however\, are greatly appreciated. Space is limited. Reservations are required.
X-ALT-DESC;FMTTYPE=text/html:Remember those carefree childhood days of lying in the sun watching clouds drift by? Recapture that feeling with arm-chair cloud gazing while learning cloud types and what weather they herald. Then decide just what that cloud looks like&hellip\;.an elephant playing a tuba? Woodlawn&rsquo\;s nature programs\, led by naturalist Lynn Havsall\, are a fun learning experience open for all ages. Children under 12 must be accompanied by an adult. Nature programs are free and open to the public. Donations\, however\, are greatly appreciated. Space is limited. Reservations are required.
LOCATION:Woodlawn Museum
UID:e.3061.2803
SEQUENCE:3
DTSTAMP:20260420T145914Z
URL:https://www.visitbarharbor.com/events/details/cloud-watching-a-nature-program-at-woodlawn-2803
END:VEVENT

END:VCALENDAR
