BEGIN:VCALENDAR
VERSION:2.0
PRODID:-//ChamberMaster//Event Calendar 2.0//EN
METHOD:PUBLISH
X-PUBLISHED-TTL:P3D
REFRESH-INTERVAL:P3D
CALSCALE:GREGORIAN
BEGIN:VEVENT
DTSTART:20180612T213000Z
DTEND:20180612T230000Z
X-MICROSOFT-CDO-ALLDAYEVENT:FALSE
SUMMARY:Climate Change and Maine Coastal Communities
DESCRIPTION:The changing climate is already reshaping Maine's coastlines and communities. In this presentation\, Dr. Tora Johnson\, director of GIS at UMaine at Machias\, will discuss current and future impacts of climate change in our region and what communities can do to prepare and prosper. She will share free\, interactive maps and online tools that can help with local planning. In addition\, she will talk about causes of conflict over climate issues and ways communities can manage disagreements and come together to meet a changing future.
X-ALT-DESC;FMTTYPE=text/html:The changing climate is already reshaping Maine&#39\;s coastlines and communities. In this presentation\, Dr. Tora Johnson\, director of GIS at UMaine at Machias\, will discuss current and future impacts of climate change in our region and what communities can do to prepare and prosper. She will share free\, interactive maps and online tools that can help with local planning. In addition\, she will talk about causes of conflict over climate issues and ways communities can manage disagreements and come together to meet a changing future.
LOCATION:Southwest Harbor Public Library
UID:e.3061.2160
SEQUENCE:3
DTSTAMP:20260420T214149Z
URL:https://www.visitbarharbor.com/events/details/climate-change-and-maine-coastal-communities-2160
END:VEVENT

END:VCALENDAR
