BEGIN:VCALENDAR
VERSION:2.0
PRODID:-//ChamberMaster//Event Calendar 2.0//EN
METHOD:PUBLISH
X-PUBLISHED-TTL:P3D
REFRESH-INTERVAL:P3D
CALSCALE:GREGORIAN
BEGIN:VEVENT
DTSTART:20180523T223000Z
DTEND:20180523T233000Z
X-MICROSOFT-CDO-ALLDAYEVENT:FALSE
SUMMARY:Clever Corvids: A Nature Program at Woodlawn
DESCRIPTION:Clever Corvids: A Nature Program at Woodlawn \n\nWednesday\, May 23\, 6:30-7:30 pm\n\nCrows and ravens are common Maine residents with uncommon smarts and interesting behaviors.  Discover the differences between them and the habits that they share.  From courtship to play\, these corvids do amazing things.  Come learn about them in a slide talk you'll be raven about!  Woodlawn's nature programs\, led by naturalist Lynn Havsall\, are a fun learning experience open for all ages.  Children under 12 must be accompanied by an adult.  Nature programs are free and open to the public.  Donations\, however\, are greatly appreciated. \n\nSpace is limited.  Reservations are required by visiting https://woodlawnmuseum.com/event/corvids/
X-ALT-DESC;FMTTYPE=text/html:<strong>Clever Corvids: A Nature Program at Woodlawn&nbsp\;</strong><br />\n<strong>Wednesday\, May 23\, 6:30-7:30 pm</strong><br />\n<span style="color:rgb(34\, 34\, 34)\; font-family:arial\,verdana\,sans-serif\; font-size:12px">Crows and ravens are common Maine residents with uncommon smarts and interesting behaviors.&nbsp\; Discover the differences between them and the habits that they share.&nbsp\; From courtship to play\, these corvids do amazing things.&nbsp\; Come learn about them in a slide talk you&rsquo\;ll be raven about!&nbsp\; Woodlawn&rsquo\;s nature programs\, led by naturalist Lynn Havsall\, are a fun learning experience open for all ages.&nbsp\; Children under 12 must be accompanied by an adult.&nbsp\; Nature programs are free and open to the public.&nbsp\; Donations\, however\, are greatly appreciated.&nbsp\;</span><br />\n<strong>Space is limited.&nbsp\; Reservations are required by visiting https://woodlawnmuseum.com/event/corvids/</strong>
LOCATION:Woodlawn Museum
UID:e.3061.854
SEQUENCE:3
DTSTAMP:20260420T232635Z
URL:https://www.visitbarharbor.com/events/details/clever-corvids-a-nature-program-at-woodlawn-854
END:VEVENT

END:VCALENDAR
