BEGIN:VCALENDAR
VERSION:2.0
PRODID:-//ChamberMaster//Event Calendar 2.0//EN
METHOD:PUBLISH
X-PUBLISHED-TTL:P3D
REFRESH-INTERVAL:P3D
CALSCALE:GREGORIAN
BEGIN:VEVENT
DTSTART:20180706T001500Z
DTEND:20180706T013000Z
X-MICROSOFT-CDO-ALLDAYEVENT:FALSE
SUMMARY:Claremont Lecture Series
DESCRIPTION:NYC Metropolitan Museum of Art Curator\, Elizabeth Wees will present a lecture titled: "Cameo Fever" From Catherine the Great Scarlett O'Hara. Lectures are free and open to the public.
X-ALT-DESC;FMTTYPE=text/html:NYC Metropolitan Museum of Art Curator\, Elizabeth Wees will present a lecture titled: &quot\;Cameo Fever&quot\; From Catherine the Great Scarlett O&#39\;Hara. Lectures are free and open to the public.
LOCATION:The Claremont Hotel
UID:e.3061.2860
SEQUENCE:3
DTSTAMP:20260420T182510Z
URL:https://www.visitbarharbor.com/events/details/claremont-lecture-series-2860
END:VEVENT

END:VCALENDAR
