BEGIN:VCALENDAR
VERSION:2.0
PRODID:-//ChamberMaster//Event Calendar 2.0//EN
METHOD:PUBLISH
X-PUBLISHED-TTL:P3D
REFRESH-INTERVAL:P3D
CALSCALE:GREGORIAN
BEGIN:VEVENT
DTSTART:20180831T001500Z
DTEND:20180831T013000Z
X-MICROSOFT-CDO-ALLDAYEVENT:FALSE
SUMMARY:Claremont Lecture Series
DESCRIPTION:Professor of Political Science from the University of Maine\, James Warhola\, will be presenting a lecture titled: "What in the World is Russia Doing & Why? Core Ideas Animating Russian Foreign Policy"
X-ALT-DESC;FMTTYPE=text/html:Professor of Political Science from the University of Maine\, James Warhola\, will be presenting a lecture titled: &quot\;What in the World is Russia Doing &amp\; Why? Core Ideas Animating Russian Foreign Policy&quot\;
LOCATION:The Claremont Hotel
UID:e.3061.2869
SEQUENCE:3
DTSTAMP:20260420T170018Z
URL:https://www.visitbarharbor.com/events/details/claremont-lecture-series-08-30-2018-2869
END:VEVENT

END:VCALENDAR
