BEGIN:VCALENDAR
VERSION:2.0
PRODID:-//ChamberMaster//Event Calendar 2.0//EN
METHOD:PUBLISH
X-PUBLISHED-TTL:P3D
REFRESH-INTERVAL:P3D
CALSCALE:GREGORIAN
BEGIN:VEVENT
DTSTART:20180824T001500Z
DTEND:20180824T013000Z
X-MICROSOFT-CDO-ALLDAYEVENT:FALSE
SUMMARY:Claremont Lecture Series
DESCRIPTION:Chairman of the Commision for International Justice and Accountability\, The Hague\, The Netherlands: Stephen Rapp Esq\, will be presenting a lecture titled: "Fulfilling the Promise of Never Again: Arresting & Trying Perpetrators of Mass Atrocities"
X-ALT-DESC;FMTTYPE=text/html:Chairman of the Commision for International Justice and Accountability\, The Hague\, The Netherlands: Stephen Rapp Esq\, will be presenting a lecture titled: &quot\;Fulfilling the Promise of Never Again: Arresting &amp\; Trying Perpetrators of Mass Atrocities&quot\;
LOCATION:The Claremont Hotel
UID:e.3061.2868
SEQUENCE:3
DTSTAMP:20260420T182821Z
URL:https://www.visitbarharbor.com/events/details/claremont-lecture-series-08-23-2018-2868
END:VEVENT

END:VCALENDAR
