BEGIN:VCALENDAR
VERSION:2.0
PRODID:-//ChamberMaster//Event Calendar 2.0//EN
METHOD:PUBLISH
X-PUBLISHED-TTL:P3D
REFRESH-INTERVAL:P3D
CALSCALE:GREGORIAN
BEGIN:VEVENT
DTSTART:20180817T001500Z
DTEND:20180817T013000Z
X-MICROSOFT-CDO-ALLDAYEVENT:FALSE
SUMMARY:Claremont Lecture Series
DESCRIPTION:Angela Goebel-Bain\, Curator of Historical Collections in the Maine State Museum will be presenting a lecture titled: "Over There and Down Home: Mainers and World War I"
X-ALT-DESC;FMTTYPE=text/html:Angela Goebel-Bain\, Curator of Historical Collections in the Maine State Museum will be presenting a lecture titled: &quot\;Over There and Down Home: Mainers and World War I&quot\;
LOCATION:The Claremont Hotel
UID:e.3061.2867
SEQUENCE:3
DTSTAMP:20260420T170112Z
URL:https://www.visitbarharbor.com/events/details/claremont-lecture-series-08-16-2018-2867
END:VEVENT

END:VCALENDAR
