BEGIN:VCALENDAR
VERSION:2.0
PRODID:-//ChamberMaster//Event Calendar 2.0//EN
METHOD:PUBLISH
X-PUBLISHED-TTL:P3D
REFRESH-INTERVAL:P3D
CALSCALE:GREGORIAN
BEGIN:VEVENT
DTSTART:20180803T001500Z
DTEND:20180803T013000Z
X-MICROSOFT-CDO-ALLDAYEVENT:FALSE
SUMMARY:Claremont Lecture Series
DESCRIPTION:Staff marine biologist at Ready Seafood in Portland Maine\, Curt Brown\, will be presenting a lecture titled: "The Search for the Elusive Baby Lobster: A Unique Collaboration Between Scientists\, Harvesters and a Lobster Wholesaler"
X-ALT-DESC;FMTTYPE=text/html:Staff marine biologist at Ready Seafood in Portland Maine\, Curt Brown\, will be presenting a lecture titled: &quot\;The Search for the Elusive Baby Lobster: A Unique Collaboration Between Scientists\, Harvesters and a Lobster Wholesaler&quot\;
LOCATION:The Claremont Hotel
UID:e.3061.2864
SEQUENCE:3
DTSTAMP:20260420T182646Z
URL:https://www.visitbarharbor.com/events/details/claremont-lecture-series-08-02-2018-2864
END:VEVENT

END:VCALENDAR
