BEGIN:VCALENDAR
VERSION:2.0
PRODID:-//ChamberMaster//Event Calendar 2.0//EN
METHOD:PUBLISH
X-PUBLISHED-TTL:P3D
REFRESH-INTERVAL:P3D
CALSCALE:GREGORIAN
BEGIN:VEVENT
DTSTART:20180727T001500Z
DTEND:20180727T013000Z
X-MICROSOFT-CDO-ALLDAYEVENT:FALSE
SUMMARY:Claremont Lecture Series
DESCRIPTION:Executive Director of the MDI Land Garden Preserve\, Rodney Eason\, will present a lecture titled: "An In-Depth Look at the History of the Mt. Desert Land & Garden Preserve"
X-ALT-DESC;FMTTYPE=text/html:Executive Director of the MDI Land Garden Preserve\, Rodney Eason\, will present a lecture titled: &quot\;An In-Depth Look at the History of the Mt. Desert Land &amp\; Garden Preserve&quot\;
LOCATION:The Claremont Hotel
UID:e.3061.2863
SEQUENCE:3
DTSTAMP:20260420T182709Z
URL:https://www.visitbarharbor.com/events/details/claremont-lecture-series-07-26-2018-2863
END:VEVENT

END:VCALENDAR
