BEGIN:VCALENDAR
VERSION:2.0
PRODID:-//ChamberMaster//Event Calendar 2.0//EN
METHOD:PUBLISH
X-PUBLISHED-TTL:P3D
REFRESH-INTERVAL:P3D
CALSCALE:GREGORIAN
BEGIN:VEVENT
DTSTART:20180720T001500Z
DTEND:20180720T013000Z
X-MICROSOFT-CDO-ALLDAYEVENT:FALSE
SUMMARY:Claremont Lecture Series
DESCRIPTION:Executive Director of the Natural Resources Council of Maine\, Lisa Pohlmann will be presenting a lecture titled: "Protecting Maine's Environment: Defense Progress and Plans"
X-ALT-DESC;FMTTYPE=text/html:Executive Director of the Natural Resources Council of Maine\, Lisa Pohlmann will be presenting a lecture titled: &quot\;Protecting Maine&#39\;s Environment: Defense Progress and Plans&quot\;
LOCATION:The Claremont Hotel
UID:e.3061.2862
SEQUENCE:3
DTSTAMP:20260420T182708Z
URL:https://www.visitbarharbor.com/events/details/claremont-lecture-series-07-19-2018-2862
END:VEVENT

END:VCALENDAR
