BEGIN:VCALENDAR
VERSION:2.0
PRODID:-//ChamberMaster//Event Calendar 2.0//EN
METHOD:PUBLISH
X-PUBLISHED-TTL:P3D
REFRESH-INTERVAL:P3D
CALSCALE:GREGORIAN
BEGIN:VEVENT
DTSTART:20180713T001500Z
DTEND:20180713T013000Z
X-MICROSOFT-CDO-ALLDAYEVENT:FALSE
SUMMARY:Claremont Lecture Series
DESCRIPTION:Author and Maine art expert\, Carl Little\, will be presenting a lecture titled "The Art of the Maine Coast"
X-ALT-DESC;FMTTYPE=text/html:Author and Maine art expert\, Carl Little\, will be presenting a lecture titled &quot\;The Art of the Maine Coast&quot\;
LOCATION:The Claremont Hotel
UID:e.3061.2861
SEQUENCE:3
DTSTAMP:20260420T182708Z
URL:https://www.visitbarharbor.com/events/details/claremont-lecture-series-07-12-2018-2861
END:VEVENT

END:VCALENDAR
