BEGIN:VCALENDAR
VERSION:2.0
PRODID:-//ChamberMaster//Event Calendar 2.0//EN
METHOD:PUBLISH
X-PUBLISHED-TTL:P3D
REFRESH-INTERVAL:P3D
CALSCALE:GREGORIAN
BEGIN:VEVENT
DTSTART:20180715T001500Z
DTEND:20180715T013000Z
X-MICROSOFT-CDO-ALLDAYEVENT:FALSE
SUMMARY:Claremont Concert Series
DESCRIPTION:The celebrated Portland Piano Trio (Annie Antonacos\, piano\, Tracey Jasas-Hardel\, violin\, and Ben Noyes\, cello) will be unveiling their new concert\, "Light and Matter"\, The program includes a jolly trio by Haydn\, a sweeping Schumann trio\, and the exciting "Light and Matter" by Kaija Saariaho. We hope you can join us!
X-ALT-DESC;FMTTYPE=text/html:The celebrated Portland Piano Trio (Annie Antonacos\, piano\, Tracey Jasas-Hardel\, violin\, and Ben Noyes\, cello) will be unveiling their new concert\, &quot\;Light and Matter&quot\;\, The program includes a jolly trio by Haydn\, a sweeping Schumann trio\, and the exciting &quot\;Light and Matter&quot\; by Kaija Saariaho. We hope you can join us!
LOCATION:The Claremont Hotel
UID:e.3061.2870
SEQUENCE:3
DTSTAMP:20260420T195820Z
URL:https://www.visitbarharbor.com/events/details/claremont-concert-series-2870
END:VEVENT

END:VCALENDAR
