BEGIN:VCALENDAR
VERSION:2.0
PRODID:-//ChamberMaster//Event Calendar 2.0//EN
METHOD:PUBLISH
X-PUBLISHED-TTL:P3D
REFRESH-INTERVAL:P3D
CALSCALE:GREGORIAN
BEGIN:VEVENT
DTSTART:20180826T001500Z
DTEND:20180826T013000Z
X-MICROSOFT-CDO-ALLDAYEVENT:FALSE
SUMMARY:Claremont Concert Series
DESCRIPTION:The Hot Club of Portland will be playing gypsy jazz in the style of Django Reinhardt through guitar\, bass\, and violin.
X-ALT-DESC;FMTTYPE=text/html:The Hot Club of Portland will be playing gypsy jazz in the style of Django Reinhardt through guitar\, bass\, and violin.
LOCATION:The Claremont Hotel
UID:e.3061.2874
SEQUENCE:3
DTSTAMP:20260420T183038Z
URL:https://www.visitbarharbor.com/events/details/claremont-concert-series-08-25-2018-2874
END:VEVENT

END:VCALENDAR
