BEGIN:VCALENDAR
VERSION:2.0
PRODID:-//ChamberMaster//Event Calendar 2.0//EN
METHOD:PUBLISH
X-PUBLISHED-TTL:P3D
REFRESH-INTERVAL:P3D
CALSCALE:GREGORIAN
BEGIN:VEVENT
DTSTART:20180819T001500Z
DTEND:20180819T013000Z
X-MICROSOFT-CDO-ALLDAYEVENT:FALSE
SUMMARY:Claremont Concert Series
DESCRIPTION:The Thomas Snow Trio will be performing traditional and contemporary jazz through piano\, sax\, and bass.
X-ALT-DESC;FMTTYPE=text/html:The Thomas Snow Trio will be performing traditional and contemporary jazz through piano\, sax\, and bass.
LOCATION:The Claremont Hotel
UID:e.3061.2873
SEQUENCE:3
DTSTAMP:20260420T200125Z
URL:https://www.visitbarharbor.com/events/details/claremont-concert-series-08-18-2018-2873
END:VEVENT

END:VCALENDAR
