BEGIN:VCALENDAR
VERSION:2.0
PRODID:-//ChamberMaster//Event Calendar 2.0//EN
METHOD:PUBLISH
X-PUBLISHED-TTL:P3D
REFRESH-INTERVAL:P3D
CALSCALE:GREGORIAN
BEGIN:VEVENT
DTSTART:20180722T001500Z
DTEND:20180722T013000Z
X-MICROSOFT-CDO-ALLDAYEVENT:FALSE
SUMMARY:Claremont Concert Series
DESCRIPTION:Accomplished Students of Kneisel Hall from Blue Hill Maine will perform a classical concert.
X-ALT-DESC;FMTTYPE=text/html:Accomplished Students of Kneisel Hall from Blue Hill Maine will perform a classical concert.
LOCATION:The Claremont Hotel
UID:e.3061.2871
SEQUENCE:3
DTSTAMP:20260420T215950Z
URL:https://www.visitbarharbor.com/events/details/claremont-concert-series-07-21-2018-2871
END:VEVENT

END:VCALENDAR
