BEGIN:VCALENDAR
VERSION:2.0
PRODID:-//ChamberMaster//Event Calendar 2.0//EN
METHOD:PUBLISH
X-PUBLISHED-TTL:P3D
REFRESH-INTERVAL:P3D
CALSCALE:GREGORIAN
BEGIN:VEVENT
DTSTART:20190413T130000Z
DTEND:20190413T193000Z
X-MICROSOFT-CDO-ALLDAYEVENT:FALSE
SUMMARY:Citizen Science Day – Saturday\, April 13th at Schoodic Institute in Winter Harbor – 9am – 3:30pm
DESCRIPTION:Join us in learning about the world through meaningful participation in science while advancing research and monitoring of Acadia's ecosystems. Schoodic Institute works with the National Park Service and other partners to provide opportunities for volunteers to participate in citizen science programs in Acadia National Park\, other public lands\, and also regionally\, nationally\, and internationally. This year\, we are celebrating Citizen Science Day with three separate training opportunities for studying birds\, seasonal change\, and nature. Please register for one of three programs\; all feature indoor classroom and outdoor field sessions: Maine Bird Atlas\, Signs of the Season\, Documenting Biodiversity with iNaturalist. Meet at Moore Auditorium on the Schoodic Institute campus. Free. You can purchase a bag lunch or bring your own lunch. Lodging available also. Please register on Event Brite.com
X-ALT-DESC;FMTTYPE=text/html:Join us in learning about the world through meaningful participation in science while advancing research and monitoring of Acadia&rsquo\;s ecosystems. Schoodic Institute works with the National Park Service and other partners to provide opportunities for volunteers to participate in citizen science programs in Acadia National Park\, other public lands\, and also regionally\, nationally\, and internationally. This year\, we are celebrating Citizen Science Day with three separate training opportunities for studying birds\, seasonal change\, and nature. Please register for one of three programs\; all feature indoor classroom and outdoor field sessions: Maine Bird Atlas\, Signs of the Season\, Documenting Biodiversity with iNaturalist. Meet at Moore Auditorium on the Schoodic Institute campus. Free. You can purchase a bag lunch or bring your own lunch. Lodging available also. Please register on Event Brite.com
LOCATION:Moore Auditorium on the Schoodic Institute campus in Winter Harbor.
UID:e.3061.5448
SEQUENCE:3
DTSTAMP:20260420T043930Z
URL:https://www.visitbarharbor.com/events/details/citizen-science-day-saturday-april-13th-at-schoodic-institute-in-winter-harbor-9am-3-30pm-5448
END:VEVENT

END:VCALENDAR
