BEGIN:VCALENDAR
VERSION:2.0
PRODID:-//ChamberMaster//Event Calendar 2.0//EN
METHOD:PUBLISH
X-PUBLISHED-TTL:P3D
REFRESH-INTERVAL:P3D
CALSCALE:GREGORIAN
BEGIN:VEVENT
DTSTART:20180913T210000Z
DTEND:20180913T230000Z
X-MICROSOFT-CDO-ALLDAYEVENT:FALSE
SUMMARY:Cinq-a-Sept Maine Magazine Networking Event
DESCRIPTION:Join Maine Magazine and the Wendell Gilley Museum for the Cinq   Sept cocktail party\, a celebratory gathering of friends\, where our community can meet up and make connections. https://www.themainemag.com/cinq-a-sept/
X-ALT-DESC;FMTTYPE=text/html:Join Maine Magazine and the Wendell Gilley Museum for the Cinq &agrave\; Sept cocktail party\, a celebratory gathering of friends\, where our community can meet up and make connections. https://www.themainemag.com/cinq-a-sept/
LOCATION:Wendell Gilley Museum
UID:e.3061.3526
SEQUENCE:3
DTSTAMP:20260420T164150Z
URL:https://www.visitbarharbor.com/events/details/cinq-a-sept-maine-magazine-networking-event-3526
END:VEVENT

END:VCALENDAR
