BEGIN:VCALENDAR
VERSION:2.0
PRODID:-//ChamberMaster//Event Calendar 2.0//EN
METHOD:PUBLISH
X-PUBLISHED-TTL:P3D
REFRESH-INTERVAL:P3D
CALSCALE:GREGORIAN
BEGIN:VEVENT
DTSTART:20181206T150000Z
DTEND:20181206T210000Z
X-MICROSOFT-CDO-ALLDAYEVENT:FALSE
SUMMARY:Christmas at Woodlawn
DESCRIPTION:Experience Experience the splendor of Christmas at Woodlawn. Tour the Black House and see the festive decorations while hearing a special audio tour presentation on the history of Christmas at Woodlawn and in New England. This season\, nearly 40 area businesses will be displaying decorated trees. $5 for adults\, $1 for children. Details at Woodlawnmuseum.org
X-ALT-DESC;FMTTYPE=text/html:Experience Experience the splendor of Christmas at Woodlawn. Tour the Black House and see the festive decorations while hearing a special audio tour presentation on the history of Christmas at Woodlawn and in New England. This season\, nearly 40 area businesses will be displaying decorated trees. $5 for adults\, $1 for children. Details at Woodlawnmuseum.org
LOCATION:Woodlawn Museum
UID:e.3061.4760
SEQUENCE:3
DTSTAMP:20260420T132334Z
URL:https://www.visitbarharbor.com/events/details/christmas-at-woodlawn-12-06-2018-4760
END:VEVENT

END:VCALENDAR
