BEGIN:VCALENDAR
VERSION:2.0
PRODID:-//ChamberMaster//Event Calendar 2.0//EN
METHOD:PUBLISH
X-PUBLISHED-TTL:P3D
REFRESH-INTERVAL:P3D
CALSCALE:GREGORIAN
BEGIN:VEVENT
DTSTART:20180903T180000Z
DTEND:20180903T203000Z
X-MICROSOFT-CDO-ALLDAYEVENT:FALSE
SUMMARY:Chowder and Popovers\, please!
DESCRIPTION:The meal that Mainers ask for and savor. Learn the Maine historical tradition of chowders and the technique to be successful at making a varieties of perfect popovers. After tasting the chowder and popovers made during the demonstration class\, you will want to duplicate these recipes at home. Opportunities to assist the chef will be available. 2   hr .  $50.00
X-ALT-DESC;FMTTYPE=text/html:<span style="color:rgb(34\, 34\, 34)\; font-family:arial\,verdana\,sans-serif\; font-size:12px">The meal that Mainers ask for and savor. Learn the Maine historical tradition of chowders and the technique to be successful at making a varieties of perfect popovers. After tasting the chowder and popovers made during the demonstration class\, you will want to duplicate these recipes at home. Opportunities to assist the chef will be available. 2 &frac12\; hr .&nbsp\; $50.00</span>
LOCATION:Ambrosia Cooking School 19 Rodick Street\, Bar Harbor\, ME 04609
UID:e.3061.680
SEQUENCE:3
DTSTAMP:20260420T195545Z
URL:https://www.visitbarharbor.com/events/details/chowder-and-popovers-please-09-03-2018-680
END:VEVENT

END:VCALENDAR
