BEGIN:VCALENDAR
VERSION:2.0
PRODID:-//ChamberMaster//Event Calendar 2.0//EN
METHOD:PUBLISH
X-PUBLISHED-TTL:P3D
REFRESH-INTERVAL:P3D
CALSCALE:GREGORIAN
BEGIN:VEVENT
DTSTART:20180622T230000Z
DTEND:20180623T000000Z
X-MICROSOFT-CDO-ALLDAYEVENT:FALSE
SUMMARY:“China: Hong Kong\, Macau and Shenzhen” Talk with Ross Dinyari
DESCRIPTION:Ross Dinyari first visited Hong Kong in the 1970's and China in the 1980's. Over the past thirty years\, he has continued to visit the area and he most recently traveled there a few months ago. Join Dinyari at the Jesup Memorial Library on Friday\, June 22 at 7 p.m. for a talk and slideshow as he explores the region and how it has changed over the ensuing years. \n\n \n\nDinyari says\, "The first time I visited China\, bicycles ruled the roads and building were being built using bamboo scaffolding. The best hotels rooms were drab-looking\, furnished with primitive scant furniture with a single light bulb hanging from the ceiling. The China I visit now is a model of style and luxury\, from the BMWs and Mercedes to luxury hotels and restaurants with food and service surpassing the West." Dinyari will highlight his time in Hong Kong\, Macau and Shenzhen. He will also be talking about China's place in the world today and how it relates to the West. \n\n \n\nFor more information on the talk\, contact the Jesup at 207-288-4245 or mrice@jesuplibrary.org.
X-ALT-DESC;FMTTYPE=text/html:<span style="font-family:times new roman\,serif"><span style="font-size:14.0pt">Ross Dinyari first visited Hong Kong in the 1970&rsquo\;s and China in the 1980&rsquo\;s. Over the past thirty years\, he has continued to visit the area and he most recently traveled there a few months ago. Join Dinyari at the Jesup Memorial Library on Friday\, June 22 at 7 p.m. for a talk and slideshow as he explores the region and how it has changed over the ensuing years. </span></span><br />\n&nbsp\;<br />\n<span style="font-family:times new roman\,serif"><span style="font-size:14.0pt">Dinyari says\, &ldquo\;The first time I visited China\, bicycles ruled the roads and building were being built using bamboo scaffolding. The best hotels rooms were drab-looking\, furnished with primitive scant furniture with a single light bulb hanging from the ceiling. The China I visit now is a model of style and luxury\, from the BMWs and Mercedes to luxury hotels and restaurants with food and service surpassing the West.&rdquo\; Dinyari will highlight his time in Hong Kong\, Macau and Shenzhen. He will also be talking about China&rsquo\;s place in the world today and how it relates to the West. </span></span><br />\n&nbsp\;<br />\n<span style="font-family:times new roman\,serif"><span style="font-size:14.0pt">For more information on the talk\, contact the Jesup at 207-288-4245 or </span></span><a href="mailto:mrice@jesuplibrary.org"><span style="font-family:times new roman\,serif"><span style="font-size:14.0pt">mrice@jesuplibrary.org</span></span></a><span style="font-family:times new roman\,serif"><span style="font-size:14.0pt">.</span></span>
LOCATION:Jesup Memroail Library\, 34 Mt. Desert St.\, Bar Harbor\, ME 04609
UID:e.3061.2835
SEQUENCE:3
DTSTAMP:20260420T220535Z
URL:https://www.visitbarharbor.com/events/details/china-hong-kong-macau-and-shenzhen-talk-with-ross-dinyari-2835
END:VEVENT

END:VCALENDAR
