BEGIN:VCALENDAR
VERSION:2.0
PRODID:-//ChamberMaster//Event Calendar 2.0//EN
METHOD:PUBLISH
X-PUBLISHED-TTL:P3D
REFRESH-INTERVAL:P3D
CALSCALE:GREGORIAN
BEGIN:VEVENT
DTSTART:20190822T130000Z
DTEND:20190822T190000Z
X-MICROSOFT-CDO-ALLDAYEVENT:FALSE
SUMMARY:Children’s Dance Week
DESCRIPTION:Children's Dance Week with Tami Willis.
X-ALT-DESC;FMTTYPE=text/html:Children&rsquo\;s Dance Week with Tami Willis.&nbsp\;
LOCATION:ArtWaves\, 1345-A State Highway 102\, Bar Harbor.
UID:e.3061.14481
SEQUENCE:3
DTSTAMP:20260422T193523Z
URL:https://www.visitbarharbor.com/events/details/children-s-dance-week-08-22-2019-14481
END:VEVENT

END:VCALENDAR
