BEGIN:VCALENDAR
VERSION:2.0
PRODID:-//ChamberMaster//Event Calendar 2.0//EN
METHOD:PUBLISH
X-PUBLISHED-TTL:P3D
REFRESH-INTERVAL:P3D
CALSCALE:GREGORIAN
BEGIN:VEVENT
DTSTART:20180512T143000Z
DTEND:20180512T153000Z
X-MICROSOFT-CDO-ALLDAYEVENT:FALSE
SUMMARY:Children's Art Show
DESCRIPTION:Celebrate 25 years of children's art shows and some very talented young artists at a special artists reception on Saturday\, May 12 from 10:30 to 11:30 a.m. at the Jesup Memorial Library. Mary Lyman has been teaching art to children for 25 years. This year her students\, who range from 5 to 13-years-old\, created beautiful sewn artwork. \n\n \n\nStop by the Jesup to toast Lyman and her students. Their work will be on display for the month of May in the Jesup's periodicals room. \n\n \n\nFor more information on Lyman visit http://www.marylyman.net/ and for more information on the event contact the Jesup at 207-288-4245 or ledwards@jesuplibrary.org.
X-ALT-DESC;FMTTYPE=text/html:<span style="font-family:times new roman\,serif"><span style="font-size:14.0pt">Celebrate 25 years of children&rsquo\;s art shows and some very talented young artists at a special artists reception on Saturday\, May 12 from 10:30 to 11:30 a.m. at the Jesup Memorial Library. Mary Lyman has been teaching art to children for 25 years. This year her students\, who range from 5 to 13-years-old\, created beautiful sewn artwork. </span></span><br />\n&nbsp\;<br />\n<span style="font-family:times new roman\,serif"><span style="font-size:14.0pt">Stop by the Jesup to toast Lyman and her students. Their work will be on display for the month of May in the Jesup&rsquo\;s periodicals room. </span></span><br />\n&nbsp\;<br />\n<span style="font-family:times new roman\,serif"><span style="font-size:14.0pt">For more information on Lyman visit </span></span><a href="http://www.marylyman.net/"><span style="font-family:times new roman\,serif"><span style="font-size:14.0pt">http://www.marylyman.net/</span></span></a><span style="font-family:times new roman\,serif"><span style="font-size:14.0pt"> and for more information on the event contact the Jesup at 207-288-4245 or </span></span><a href="mailto:ledwards@jesuplibrary.org"><span style="font-family:times new roman\,serif"><span style="font-size:14.0pt">ledwards@jesuplibrary.org</span></span></a><span style="font-family:times new roman\,serif"><span style="font-size:14.0pt">. </span></span>
LOCATION:Jesup Memorial Library\, 34 Mt. Desert St.\, Bar Harbor\, ME 04609
UID:e.3061.2149
SEQUENCE:3
DTSTAMP:20260420T215734Z
URL:https://www.visitbarharbor.com/events/details/children-s-art-show-2149
END:VEVENT

END:VCALENDAR
