BEGIN:VCALENDAR
VERSION:2.0
PRODID:-//ChamberMaster//Event Calendar 2.0//EN
METHOD:PUBLISH
X-PUBLISHED-TTL:P3D
REFRESH-INTERVAL:P3D
CALSCALE:GREGORIAN
BEGIN:VEVENT
DTSTART:20181027T000000Z
DTEND:20181027T023000Z
X-MICROSOFT-CDO-ALLDAYEVENT:FALSE
SUMMARY:Cherry Lemonade presents Night of the Living Queens
DESCRIPTION:An absolutely fabulous drag spectacular featuring the fiercest queens in the Northeast! Hosted by Cherry Lemonade (1st from left)\, and starring NYC's own Shuga Cain (4th from left)\, Lady Ginger (3rd from left)\, Gigi Gabor (2nd from left)\, and with special guest Geo Neptune (not pictured). Assigned Seating: $30 Balcony\, $30 Front & Center Orchestra General Admission By Section: $25 Orchestra Plus\, $15 Orchestra Standard Co-sponsored by Lompoc Cafe\, Bar Harbor\, Maine and Cafe This Way
X-ALT-DESC;FMTTYPE=text/html:An absolutely fabulous drag spectacular featuring the fiercest queens in the Northeast! Hosted by Cherry Lemonade (1st from left)\, and starring NYC&#39\;s own Shuga Cain (4th from left)\, Lady Ginger (3rd from left)\, Gigi Gabor (2nd from left)\, and with special guest Geo Neptune (not pictured). Assigned Seating: $30 Balcony\, $30 Front &amp\; Center Orchestra General Admission By Section: $25 Orchestra Plus\, $15 Orchestra Standard Co-sponsored by Lompoc Cafe\, Bar Harbor\, Maine and Cafe This Way
LOCATION:Criterion Theatre
UID:e.3061.3938
SEQUENCE:3
DTSTAMP:20260420T132704Z
URL:https://www.visitbarharbor.com/events/details/cherry-lemonade-presents-night-of-the-living-queens-3938
END:VEVENT

END:VCALENDAR
